BEGIN:VCALENDAR
VERSION:2.0
PRODID:icalendar-ruby
CALSCALE:GREGORIAN
METHOD:PUBLISH
BEGIN:VEVENT
DTSTAMP:20260421T165955Z
UID:5-7608519@firstbaptistcalgary.net
DTSTART:20261018T160000Z
DTEND:20261018T170000Z
CLASS:PUBLIC
CREATED:20260421T093038
DESCRIPTION:Join us every Sunday at 10:00am to worship God and hear His wor
 d. \nEveryone is welcome!\nIf you are not able to attend\, you can join u
 s online.
LAST-MODIFIED:20260421T093038
LOCATION:Church Sanctuary
SUMMARY:English Worship Service
URL;VALUE=URI:https://www.firstbaptistcalgary.net/events/english-worship-se
 rvice/2026-10-18
END:VEVENT
END:VCALENDAR
